BEGIN:VCALENDAR
VERSION:2.0
PRODID:-//FordingbridgeGreenerLiving - ECPv6.15.18//NONSGML v1.0//EN
CALSCALE:GREGORIAN
METHOD:PUBLISH
X-ORIGINAL-URL:https://www.fordingbridgegreenerliving.org
X-WR-CALDESC:Events for FordingbridgeGreenerLiving
REFRESH-INTERVAL;VALUE=DURATION:PT1H
X-Robots-Tag:noindex
X-PUBLISHED-TTL:PT1H
BEGIN:VTIMEZONE
TZID:Europe/London
BEGIN:DAYLIGHT
TZOFFSETFROM:+0000
TZOFFSETTO:+0100
TZNAME:BST
DTSTART:20220327T010000
END:DAYLIGHT
BEGIN:STANDARD
TZOFFSETFROM:+0100
TZOFFSETTO:+0000
TZNAME:GMT
DTSTART:20221030T010000
END:STANDARD
BEGIN:DAYLIGHT
TZOFFSETFROM:+0000
TZOFFSETTO:+0100
TZNAME:BST
DTSTART:20230326T010000
END:DAYLIGHT
BEGIN:STANDARD
TZOFFSETFROM:+0100
TZOFFSETTO:+0000
TZNAME:GMT
DTSTART:20231029T010000
END:STANDARD
BEGIN:DAYLIGHT
TZOFFSETFROM:+0000
TZOFFSETTO:+0100
TZNAME:BST
DTSTART:20240331T010000
END:DAYLIGHT
BEGIN:STANDARD
TZOFFSETFROM:+0100
TZOFFSETTO:+0000
TZNAME:GMT
DTSTART:20241027T010000
END:STANDARD
BEGIN:DAYLIGHT
TZOFFSETFROM:+0000
TZOFFSETTO:+0100
TZNAME:BST
DTSTART:20250330T010000
END:DAYLIGHT
BEGIN:STANDARD
TZOFFSETFROM:+0100
TZOFFSETTO:+0000
TZNAME:GMT
DTSTART:20251026T010000
END:STANDARD
BEGIN:DAYLIGHT
TZOFFSETFROM:+0000
TZOFFSETTO:+0100
TZNAME:BST
DTSTART:20260329T010000
END:DAYLIGHT
BEGIN:STANDARD
TZOFFSETFROM:+0100
TZOFFSETTO:+0000
TZNAME:GMT
DTSTART:20261025T010000
END:STANDARD
BEGIN:DAYLIGHT
TZOFFSETFROM:+0000
TZOFFSETTO:+0100
TZNAME:BST
DTSTART:20270328T010000
END:DAYLIGHT
BEGIN:STANDARD
TZOFFSETFROM:+0100
TZOFFSETTO:+0000
TZNAME:GMT
DTSTART:20271031T010000
END:STANDARD
END:VTIMEZONE
BEGIN:VEVENT
DTSTART;TZID=Europe/London:20260401T193000
DTEND;TZID=Europe/London:20260401T210000
DTSTAMP:20260421T223419
CREATED:20260124T155705Z
LAST-MODIFIED:20260124T155927Z
UID:2042-1775071800-1775077200@www.fordingbridgegreenerliving.org
SUMMARY:Make Your Own Cleaning Products
DESCRIPTION:Come to Avonway Annex at 7.30pm to learn about the financial\, health and eco benefits of making your own cleaning products. \nThere will be recipe cards\, practical demonstrations and you’ll have the opportunity to make your own products during the evening to take-away. \nBooking is essential – more information coming soon via the Fordingbridge Greener Living and Green Gram social media pages. Alternatively contact Wendy by emailing outreach@thegreengram.org to register your interest.
URL:https://www.fordingbridgegreenerliving.org/event/make-your-own-cleaning-products/
LOCATION:Avonway Community Centre – Annex
CATEGORIES:Green Talks
ATTACH;FMTTYPE=image/png:https://www.fordingbridgegreenerliving.org/wp-content/uploads/2026/01/Green-cleaning.png
END:VEVENT
BEGIN:VEVENT
DTSTART;TZID=Europe/London:20231123T193000
DTEND;TZID=Europe/London:20231123T210000
DTSTAMP:20260421T223419
CREATED:20231103T134752Z
LAST-MODIFIED:20231103T135510Z
UID:1769-1700767800-1700773200@www.fordingbridgegreenerliving.org
SUMMARY:Talk Green - Waste Prevention & Recycling
DESCRIPTION:This is a free event. Please book your ticket using the link below: \nhttps://www.ticketsource.co.uk/fordingbridge-greener-living/t-pqyjzdg
URL:https://www.fordingbridgegreenerliving.org/event/talk-green/
LOCATION:Avonway Community Centre\, 36 Shaftesbury St\, Fordingbridge\, SP6 1JF
CATEGORIES:Green Talks
ATTACH;FMTTYPE=image/jpeg:https://www.fordingbridgegreenerliving.org/wp-content/uploads/2023/11/Talk-Green.jpg
END:VEVENT
BEGIN:VEVENT
DTSTART;TZID=Europe/London:20231026T183000
DTEND;TZID=Europe/London:20231026T183000
DTSTAMP:20260421T223419
CREATED:20230929T114725Z
LAST-MODIFIED:20231027T181508Z
UID:1695-1698345000-1698345000@www.fordingbridgegreenerliving.org
SUMMARY:The Right Light At Night
DESCRIPTION:​Steve Tonkin is back with his popular talk The right light at Night. \nIn 2016 the American Medical Association declared exposure to Artificial Light at Night (ALAN) to be a human health hazard\, but the biotic harms of ALAN are not limited to humans. It seems that everywhere we look at the natural world\, from migrating birds to mating frogs\, from foraging mammals to freshwater plankton\, from coral spawning to already-endangered bats\, it is adversely affected. \nALAN is recognised as one of the major drivers of biodiversity collapse (the others being climate change\, habitat loss\, and pesticide use). It is also the one that is most easily rectified. \nThis is a free event. But spaces are limited so please book your place using the link below:\nhttps://www.ticketsource.co.uk/fordingbridge-greener-living/the-right-light-at-night/e-orvqyl
URL:https://www.fordingbridgegreenerliving.org/event/the-right-light-at-night/
LOCATION:Avonway Community Centre – Annex
CATEGORIES:Green Talks
ATTACH;FMTTYPE=image/jpeg:https://www.fordingbridgegreenerliving.org/wp-content/uploads/2023/09/Talk-Green-poster-Steve-Tonkin-Oct-23-scaled.jpg
END:VEVENT
BEGIN:VEVENT
DTSTART;TZID=Europe/London:20230426T191500
DTEND;TZID=Europe/London:20230426T210000
DTSTAMP:20260421T223419
CREATED:20230413T150704Z
LAST-MODIFIED:20230426T140434Z
UID:1500-1682536500-1682542800@www.fordingbridgegreenerliving.org
SUMMARY:Gardening for Wildlife & Biodiversity
DESCRIPTION:Our back gardens can be an ecological haven but there is an increasing awareness of the importance of them as refuges for biodiversity. \nPaul will talk about why and how we can garden for wildlife and the choices and possible different ways of getting what the gardener wants.  It will cover topics including wildflower meadows\, ponds\, and how to enhance your garden for wildlife and still have a beautiful display of flowers. \nTickets here:\nhttps://www.ticketsource.co.uk/fordingbridge-greener-living/t-xmagzza
URL:https://www.fordingbridgegreenerliving.org/event/green-talk-gardening-for-wildlife-biodiversity/
LOCATION:Avonway Community Centre\, 36 Shaftesbury St\, Fordingbridge\, SP6 1JF
CATEGORIES:Green Talks
ATTACH;FMTTYPE=image/png:https://www.fordingbridgegreenerliving.org/wp-content/uploads/2023/04/Green-Talk-2.png
END:VEVENT
BEGIN:VEVENT
DTSTART;TZID=Europe/London:20230322T193000
DTEND;TZID=Europe/London:20230322T210000
DTSTAMP:20260421T223419
CREATED:20230221T115343Z
LAST-MODIFIED:20230413T150337Z
UID:1448-1679513400-1679518800@www.fordingbridgegreenerliving.org
SUMMARY:Green Talk - Lighting; Biodiversity & Health
DESCRIPTION:Presented by: Steve Tonkin FRAS (Dark Skies Adviser to the Cranborne Chase International Dark Sky Reserve.) Steve has been advocating responsible outdoor lighting for more than 30 years. \nAbout the talk:\nBadly implemented artificial light at night (ALAN) has been flagged up as an environmental pollutant for more than 40 years\, yet little has been done to control it.\nThis socially-accepted pollutant has caused the disappearance of our starry skies\, but this is merely the easily-visible tip of a whole iceberg of harm.\nEvery year\, billions of birds and insects die as a direct consequence of ALAN\, and we now know that it is implicated in several human health conditions. The remedies are known\, are available\, and are simple and cost-effective to implement..…..lets raise awareness and increase the will to implement these remedies.
URL:https://www.fordingbridgegreenerliving.org/event/green-talk-lighting-biodiversity-health/
LOCATION:Avonway Community Centre\, 36 Shaftesbury St\, Fordingbridge\, SP6 1JF
CATEGORIES:Green Talks
ATTACH;FMTTYPE=image/png:https://www.fordingbridgegreenerliving.org/wp-content/uploads/2023/02/green_talk.png
END:VEVENT
END:VCALENDAR