BEGIN:VCALENDAR
VERSION:2.0
PRODID:-//FordingbridgeGreenerLiving - ECPv6.15.18//NONSGML v1.0//EN
CALSCALE:GREGORIAN
METHOD:PUBLISH
X-WR-CALNAME:FordingbridgeGreenerLiving
X-ORIGINAL-URL:https://www.fordingbridgegreenerliving.org
X-WR-CALDESC:Events for FordingbridgeGreenerLiving
REFRESH-INTERVAL;VALUE=DURATION:PT1H
X-Robots-Tag:noindex
X-PUBLISHED-TTL:PT1H
BEGIN:VTIMEZONE
TZID:Europe/London
BEGIN:DAYLIGHT
TZOFFSETFROM:+0000
TZOFFSETTO:+0100
TZNAME:BST
DTSTART:20220327T010000
END:DAYLIGHT
BEGIN:STANDARD
TZOFFSETFROM:+0100
TZOFFSETTO:+0000
TZNAME:GMT
DTSTART:20221030T010000
END:STANDARD
BEGIN:DAYLIGHT
TZOFFSETFROM:+0000
TZOFFSETTO:+0100
TZNAME:BST
DTSTART:20230326T010000
END:DAYLIGHT
BEGIN:STANDARD
TZOFFSETFROM:+0100
TZOFFSETTO:+0000
TZNAME:GMT
DTSTART:20231029T010000
END:STANDARD
BEGIN:DAYLIGHT
TZOFFSETFROM:+0000
TZOFFSETTO:+0100
TZNAME:BST
DTSTART:20240331T010000
END:DAYLIGHT
BEGIN:STANDARD
TZOFFSETFROM:+0100
TZOFFSETTO:+0000
TZNAME:GMT
DTSTART:20241027T010000
END:STANDARD
END:VTIMEZONE
BEGIN:VEVENT
DTSTART;TZID=Europe/London:20230705T181500
DTEND;TZID=Europe/London:20230705T181500
DTSTAMP:20260422T004337
CREATED:20230426T134835Z
LAST-MODIFIED:20230706T182153Z
UID:1544-1688580900-1688580900@www.fordingbridgegreenerliving.org
SUMMARY:Show round of sustainable house in Fordingbridge
DESCRIPTION:
URL:https://www.fordingbridgegreenerliving.org/event/show-round-of-sustainable-house-in-fordingbridge/
LOCATION:TO BE CONFIRMED ON BOOKING
CATEGORIES:Guided Tour
END:VEVENT
BEGIN:VEVENT
DTSTART;TZID=Europe/London:20230527T140000
DTEND;TZID=Europe/London:20230527T140000
DTSTAMP:20260422T004337
CREATED:20230426T134835Z
LAST-MODIFIED:20230528T143357Z
UID:1550-1685196000-1685196000@www.fordingbridgegreenerliving.org
SUMMARY:Show round at St Giles Biodynamic Farm
DESCRIPTION:St Giles Farm is situation in Godshill and consists of 30 acres of land\, currently being managed on Biodynamic principles and is being rewilded by its owners. \nClaudia and Eden will be welcoming us to the farm for a showround and talk about what they are doing on the farm. \nThere will be refreshments. \nTickets are free. To book click on the link below:\nhttps://www.ticketsource.co.uk/fordingbridge-greener-living/t-eaqkaeq
URL:https://www.fordingbridgegreenerliving.org/event/show-round-at-st-giles-biodynamic-farm/
LOCATION:St Giles Farm
CATEGORIES:Guided Tour
ATTACH;FMTTYPE=image/jpeg:https://www.fordingbridgegreenerliving.org/wp-content/uploads/2023/04/green_talk_st_giles_farm.jpg
END:VEVENT
END:VCALENDAR