BEGIN:VCALENDAR
VERSION:2.0
PRODID:-//FordingbridgeGreenerLiving - ECPv6.15.18//NONSGML v1.0//EN
CALSCALE:GREGORIAN
METHOD:PUBLISH
X-WR-CALNAME:FordingbridgeGreenerLiving
X-ORIGINAL-URL:https://www.fordingbridgegreenerliving.org
X-WR-CALDESC:Events for FordingbridgeGreenerLiving
REFRESH-INTERVAL;VALUE=DURATION:PT1H
X-Robots-Tag:noindex
X-PUBLISHED-TTL:PT1H
BEGIN:VTIMEZONE
TZID:Europe/London
BEGIN:DAYLIGHT
TZOFFSETFROM:+0000
TZOFFSETTO:+0100
TZNAME:BST
DTSTART:20190331T010000
END:DAYLIGHT
BEGIN:STANDARD
TZOFFSETFROM:+0100
TZOFFSETTO:+0000
TZNAME:GMT
DTSTART:20191027T010000
END:STANDARD
BEGIN:DAYLIGHT
TZOFFSETFROM:+0000
TZOFFSETTO:+0100
TZNAME:BST
DTSTART:20200329T010000
END:DAYLIGHT
BEGIN:STANDARD
TZOFFSETFROM:+0100
TZOFFSETTO:+0000
TZNAME:GMT
DTSTART:20201025T010000
END:STANDARD
BEGIN:DAYLIGHT
TZOFFSETFROM:+0000
TZOFFSETTO:+0100
TZNAME:BST
DTSTART:20210328T010000
END:DAYLIGHT
BEGIN:STANDARD
TZOFFSETFROM:+0100
TZOFFSETTO:+0000
TZNAME:GMT
DTSTART:20211031T010000
END:STANDARD
BEGIN:DAYLIGHT
TZOFFSETFROM:+0000
TZOFFSETTO:+0100
TZNAME:BST
DTSTART:20220327T010000
END:DAYLIGHT
BEGIN:STANDARD
TZOFFSETFROM:+0100
TZOFFSETTO:+0000
TZNAME:GMT
DTSTART:20221030T010000
END:STANDARD
END:VTIMEZONE
BEGIN:VEVENT
DTSTART;TZID=Europe/London:20210508T100000
DTEND;TZID=Europe/London:20210508T130000
DTSTAMP:20260422T040349
CREATED:20210423T130327Z
LAST-MODIFIED:20220523T070853Z
UID:435-1620468000-1620478800@www.fordingbridgegreenerliving.org
SUMMARY:Plastic Free Fordingbridge - Community Litter Pick
DESCRIPTION: 
URL:https://www.fordingbridgegreenerliving.org/event/plastic-free-fordingbridge-community-litter-pick/
CATEGORIES:Litter Pick
END:VEVENT
BEGIN:VEVENT
DTSTART;TZID=Europe/London:20201017T100000
DTEND;TZID=Europe/London:20201017T130000
DTSTAMP:20260422T040349
CREATED:20200928T131845Z
LAST-MODIFIED:20220523T071059Z
UID:351-1602928800-1602939600@www.fordingbridgegreenerliving.org
SUMMARY:Plastic Free Fordingbridge Litter Pick
DESCRIPTION:
URL:https://www.fordingbridgegreenerliving.org/event/plastic-free-fordingbridge-litter-pick/
LOCATION:Fordingbridge
CATEGORIES:Litter Pick
END:VEVENT
END:VCALENDAR