BEGIN:VCALENDAR
VERSION:2.0
PRODID:-//FordingbridgeGreenerLiving - ECPv6.15.18//NONSGML v1.0//EN
CALSCALE:GREGORIAN
METHOD:PUBLISH
X-ORIGINAL-URL:https://www.fordingbridgegreenerliving.org
X-WR-CALDESC:Events for FordingbridgeGreenerLiving
REFRESH-INTERVAL;VALUE=DURATION:PT1H
X-Robots-Tag:noindex
X-PUBLISHED-TTL:PT1H
BEGIN:VTIMEZONE
TZID:Europe/London
BEGIN:DAYLIGHT
TZOFFSETFROM:+0000
TZOFFSETTO:+0100
TZNAME:BST
DTSTART:20200329T010000
END:DAYLIGHT
BEGIN:STANDARD
TZOFFSETFROM:+0100
TZOFFSETTO:+0000
TZNAME:GMT
DTSTART:20201025T010000
END:STANDARD
BEGIN:DAYLIGHT
TZOFFSETFROM:+0000
TZOFFSETTO:+0100
TZNAME:BST
DTSTART:20210328T010000
END:DAYLIGHT
BEGIN:STANDARD
TZOFFSETFROM:+0100
TZOFFSETTO:+0000
TZNAME:GMT
DTSTART:20211031T010000
END:STANDARD
BEGIN:DAYLIGHT
TZOFFSETFROM:+0000
TZOFFSETTO:+0100
TZNAME:BST
DTSTART:20220327T010000
END:DAYLIGHT
BEGIN:STANDARD
TZOFFSETFROM:+0100
TZOFFSETTO:+0000
TZNAME:GMT
DTSTART:20221030T010000
END:STANDARD
BEGIN:DAYLIGHT
TZOFFSETFROM:+0000
TZOFFSETTO:+0100
TZNAME:BST
DTSTART:20230326T010000
END:DAYLIGHT
BEGIN:STANDARD
TZOFFSETFROM:+0100
TZOFFSETTO:+0000
TZNAME:GMT
DTSTART:20231029T010000
END:STANDARD
BEGIN:DAYLIGHT
TZOFFSETFROM:+0000
TZOFFSETTO:+0100
TZNAME:BST
DTSTART:20240331T010000
END:DAYLIGHT
BEGIN:STANDARD
TZOFFSETFROM:+0100
TZOFFSETTO:+0000
TZNAME:GMT
DTSTART:20241027T010000
END:STANDARD
END:VTIMEZONE
BEGIN:VEVENT
DTSTART;TZID=Europe/London:20230603T100000
DTEND;TZID=Europe/London:20230603T130000
DTSTAMP:20260422T003120
CREATED:20230413T160016Z
LAST-MODIFIED:20230413T160256Z
UID:1513-1685786400-1685797200@www.fordingbridgegreenerliving.org
SUMMARY:Plant sale outside Fordingbridge Library
DESCRIPTION:Come and get fruit\, vegetables and flowers. All proceeds donated to Fordingbridge Greener Living.
URL:https://www.fordingbridgegreenerliving.org/event/plant-sale-outside-fordingbridge-library-2/
LOCATION:Outside Fordingbridge Library\, 2 Round Hill\, Fordingbridge\, SP6 1AQ\, United Kingdom
CATEGORIES:Plant Sale
ATTACH;FMTTYPE=image/png:https://www.fordingbridgegreenerliving.org/wp-content/uploads/2023/04/plant_sale.png
END:VEVENT
BEGIN:VEVENT
DTSTART;TZID=Europe/London:20220604T100000
DTEND;TZID=Europe/London:20220604T130000
DTSTAMP:20260422T003120
CREATED:20220409T123110Z
LAST-MODIFIED:20220531T092018Z
UID:1049-1654336800-1654347600@www.fordingbridgegreenerliving.org
SUMMARY:Plant Sale
DESCRIPTION:Come and grab some plants at our annual sale. All proceeds go towards our projects.\nOutside Fordingbridge Library
URL:https://www.fordingbridgegreenerliving.org/event/plant-sale/
LOCATION:Outside Fordingbridge Library\, 2 Round Hill\, Fordingbridge\, SP6 1AQ\, United Kingdom
CATEGORIES:Plant Sale
ATTACH;FMTTYPE=image/jpeg:https://www.fordingbridgegreenerliving.org/wp-content/uploads/2022/04/plant-sale-june-2022.jpg
END:VEVENT
BEGIN:VEVENT
DTSTART;TZID=Europe/London:20210605T100000
DTEND;TZID=Europe/London:20210605T140000
DTSTAMP:20260422T003120
CREATED:20210515T073806Z
LAST-MODIFIED:20220523T070738Z
UID:446-1622887200-1622901600@www.fordingbridgegreenerliving.org
SUMMARY:Plant Sale - Outside Fordingbridge Library
DESCRIPTION:Fordingbridge Greener Living shall be selling a range of flowers and vegetables to raise funds for our initiatives in the town\, as well as our Tree Planting Project.\nIf you have any plants you would like to donate to the sale\, please email Jaime at fgltrees@gmail.com
URL:https://www.fordingbridgegreenerliving.org/event/plant-sale-outside-fordingbridge-library/
CATEGORIES:Plant Sale
END:VEVENT
END:VCALENDAR