BEGIN:VCALENDAR
VERSION:2.0
PRODID:-//FordingbridgeGreenerLiving - ECPv6.15.18//NONSGML v1.0//EN
CALSCALE:GREGORIAN
METHOD:PUBLISH
X-ORIGINAL-URL:https://www.fordingbridgegreenerliving.org
X-WR-CALDESC:Events for FordingbridgeGreenerLiving
REFRESH-INTERVAL;VALUE=DURATION:PT1H
X-Robots-Tag:noindex
X-PUBLISHED-TTL:PT1H
BEGIN:VTIMEZONE
TZID:Europe/London
BEGIN:DAYLIGHT
TZOFFSETFROM:+0000
TZOFFSETTO:+0100
TZNAME:BST
DTSTART:20200329T010000
END:DAYLIGHT
BEGIN:STANDARD
TZOFFSETFROM:+0100
TZOFFSETTO:+0000
TZNAME:GMT
DTSTART:20201025T010000
END:STANDARD
BEGIN:DAYLIGHT
TZOFFSETFROM:+0000
TZOFFSETTO:+0100
TZNAME:BST
DTSTART:20210328T010000
END:DAYLIGHT
BEGIN:STANDARD
TZOFFSETFROM:+0100
TZOFFSETTO:+0000
TZNAME:GMT
DTSTART:20211031T010000
END:STANDARD
BEGIN:DAYLIGHT
TZOFFSETFROM:+0000
TZOFFSETTO:+0100
TZNAME:BST
DTSTART:20220327T010000
END:DAYLIGHT
BEGIN:STANDARD
TZOFFSETFROM:+0100
TZOFFSETTO:+0000
TZNAME:GMT
DTSTART:20221030T010000
END:STANDARD
END:VTIMEZONE
BEGIN:VEVENT
DTSTART;TZID=Europe/London:20210417T090000
DTEND;TZID=Europe/London:20210417T170000
DTSTAMP:20260422T055705
CREATED:20210312T092148Z
LAST-MODIFIED:20220523T070948Z
UID:405-1618650000-1618678800@www.fordingbridgegreenerliving.org
SUMMARY:Shed Opening Post Lock-down
DESCRIPTION:The shed will reopen on Saturday 17th April. During the morning volunteers will be on hand to collect your backlog of items. Please only come to drop off items if you have no symptoms of Coronavirus.
URL:https://www.fordingbridgegreenerliving.org/event/shed-opening-post-lock-down/
CATEGORIES:Recycling Shed
END:VEVENT
BEGIN:VEVENT
DTSTART;TZID=Europe/London:20210412T090000
DTEND;TZID=Europe/London:20210412T170000
DTSTAMP:20260422T055705
CREATED:20210312T091630Z
LAST-MODIFIED:20220523T071001Z
UID:403-1618218000-1618246800@www.fordingbridgegreenerliving.org
SUMMARY:Crisp Packet Recycling Recommencement
DESCRIPTION:On Monday 12th April we will begin to collect crisp packets from The Gourmet Grocer. Please flatten all packets and follow the guidance on what to include.
URL:https://www.fordingbridgegreenerliving.org/event/crisp-packet-recycling-recommencement/
CATEGORIES:Recycling Shed
END:VEVENT
END:VCALENDAR