BEGIN:VCALENDAR
VERSION:2.0
PRODID:-//FordingbridgeGreenerLiving - ECPv6.15.18//NONSGML v1.0//EN
CALSCALE:GREGORIAN
METHOD:PUBLISH
X-WR-CALNAME:FordingbridgeGreenerLiving
X-ORIGINAL-URL:https://www.fordingbridgegreenerliving.org
X-WR-CALDESC:Events for FordingbridgeGreenerLiving
REFRESH-INTERVAL;VALUE=DURATION:PT1H
X-Robots-Tag:noindex
X-PUBLISHED-TTL:PT1H
BEGIN:VTIMEZONE
TZID:Europe/London
BEGIN:DAYLIGHT
TZOFFSETFROM:+0000
TZOFFSETTO:+0100
TZNAME:BST
DTSTART:20200329T010000
END:DAYLIGHT
BEGIN:STANDARD
TZOFFSETFROM:+0100
TZOFFSETTO:+0000
TZNAME:GMT
DTSTART:20201025T010000
END:STANDARD
BEGIN:DAYLIGHT
TZOFFSETFROM:+0000
TZOFFSETTO:+0100
TZNAME:BST
DTSTART:20210328T010000
END:DAYLIGHT
BEGIN:STANDARD
TZOFFSETFROM:+0100
TZOFFSETTO:+0000
TZNAME:GMT
DTSTART:20211031T010000
END:STANDARD
BEGIN:DAYLIGHT
TZOFFSETFROM:+0000
TZOFFSETTO:+0100
TZNAME:BST
DTSTART:20220327T010000
END:DAYLIGHT
BEGIN:STANDARD
TZOFFSETFROM:+0100
TZOFFSETTO:+0000
TZNAME:GMT
DTSTART:20221030T010000
END:STANDARD
BEGIN:DAYLIGHT
TZOFFSETFROM:+0000
TZOFFSETTO:+0100
TZNAME:BST
DTSTART:20230326T010000
END:DAYLIGHT
BEGIN:STANDARD
TZOFFSETFROM:+0100
TZOFFSETTO:+0000
TZNAME:GMT
DTSTART:20231029T010000
END:STANDARD
BEGIN:DAYLIGHT
TZOFFSETFROM:+0000
TZOFFSETTO:+0100
TZNAME:BST
DTSTART:20240331T010000
END:DAYLIGHT
BEGIN:STANDARD
TZOFFSETFROM:+0100
TZOFFSETTO:+0000
TZNAME:GMT
DTSTART:20241027T010000
END:STANDARD
END:VTIMEZONE
BEGIN:VEVENT
DTSTART;TZID=Europe/London:20230903T100000
DTEND;TZID=Europe/London:20230903T120000
DTSTAMP:20260422T002753
CREATED:20230826T094535Z
LAST-MODIFIED:20230826T101844Z
UID:1655-1693735200-1693742400@www.fordingbridgegreenerliving.org
SUMMARY:Compost Collection
DESCRIPTION:
URL:https://www.fordingbridgegreenerliving.org/event/compost-collection-2/
LOCATION:Allotments\, Fry’s Field\, Picket Close\, Fordingbridge\, SP6 1JY
CATEGORIES:Ridan Composter
ATTACH;FMTTYPE=image/jpeg:https://www.fordingbridgegreenerliving.org/wp-content/uploads/2023/08/compost_collection_day.jpg
END:VEVENT
BEGIN:VEVENT
DTSTART;TZID=Europe/London:20211205T133000
DTEND;TZID=Europe/London:20211205T153000
DTSTAMP:20260422T002753
CREATED:20211124T172542Z
LAST-MODIFIED:20220523T070455Z
UID:656-1638711000-1638718200@www.fordingbridgegreenerliving.org
SUMMARY:Compost Collection
DESCRIPTION:Members of our compost club can come and fill a bag of compost on Sunday 5th December 1.30-3.30pm. If you have a bag you can bring them that would be really helpful.
URL:https://www.fordingbridgegreenerliving.org/event/compost-collection/
CATEGORIES:Ridan Composter
END:VEVENT
BEGIN:VEVENT
DTSTART;TZID=Europe/London:20210529T100000
DTEND;TZID=Europe/London:20210529T130000
DTSTAMP:20260422T002753
CREATED:20210511T174509Z
LAST-MODIFIED:20220523T070824Z
UID:442-1622282400-1622293200@www.fordingbridgegreenerliving.org
SUMMARY:Ridan Composter Open Day
DESCRIPTION:Come and learn how the composter works and sign up to be a member of the compost club. \nCome to Fry’s Field Allotments down Green Lane. It’s on the same day as the community Jumble Trail so pop and see us while you are visiting the stalls. \n  \n 
URL:https://www.fordingbridgegreenerliving.org/event/ridan-composter-open-day/
CATEGORIES:Ridan Composter
END:VEVENT
BEGIN:VEVENT
DTSTART;VALUE=DATE:20210501
DTEND;VALUE=DATE:20210502
DTSTAMP:20260422T002753
CREATED:20210423T125903Z
LAST-MODIFIED:20220523T070900Z
UID:433-1619827200-1619913599@www.fordingbridgegreenerliving.org
SUMMARY:Working Party - Prepping for the Community Composter
DESCRIPTION:We will have a small team working at Fry’s Field Allotments to prepare the area for the arrival of our composter.
URL:https://www.fordingbridgegreenerliving.org/event/working-party-prepping-for-the-community-composter/
CATEGORIES:Ridan Composter
END:VEVENT
END:VCALENDAR